
BEGIN:VCALENDAR
VERSION:2.0
PRODID:-//MarkedsPartner AS//Umbraco CMS//NO
TIMEZONE-ID:Europe/Oslo
X-WR-TIMEZONE:Europe/Oslo


BEGIN:VEVENT
UID:2848a11319d5435884230fa02a3e344d
URL:https://umbraco.naeringsforeningen.no/moeter/arkiv/workshop-onboarding/
ORGANIZER;CN=Ola Normann:MAILTO:ola.normann@markedspartner.no
DTSTAMP:20231115T070000Z
DTSTART:20231115T070000Z
DTEND:20231115T090000Z
LAST-MODIFIED:20231115T100035Z
SUMMARY:Workshop: Onboarding
DESCRIPTION:Rekruttering er et tema som diskuteres i mange bedrifter om dagen. I møtet om Rekrutteringstrender 23 august fremkom det en del ønsker om mulige workshops på enkelte områder. Her er andre workshop.
X-ALT-DESC:Rekruttering er et tema som diskuteres i mange bedrifter om dagen. I m&#248;tet om Rekrutteringstrender 23 august fremkom det en del &#248;nsker om mulige workshops p&#229; enkelte omr&#229;der. Her er andre workshop.
LOCATION:Rosenkildehuset
END:VEVENT


END:VCALENDAR



