
BEGIN:VCALENDAR
VERSION:2.0
PRODID:-//MarkedsPartner AS//Umbraco CMS//NO
TIMEZONE-ID:Europe/Oslo
X-WR-TIMEZONE:Europe/Oslo


BEGIN:VEVENT
UID:41a83573360646c8b87d189c48386916
URL:https://umbraco.naeringsforeningen.no/moeter/arkiv/workshop-employer-branding/
ORGANIZER;CN=Ola Normann:MAILTO:ola.normann@markedspartner.no
DTSTAMP:20231107T070000Z
DTSTART:20231107T070000Z
DTEND:20231107T090000Z
LAST-MODIFIED:20231107T194958Z
SUMMARY:Workshop: Employer branding
DESCRIPTION:Rekruttering er et tema som diskuteres i mange bedrifter om dagen. I møtet om Rekrutteringstrender 23 august fremkom det en del ønsker om mulige workshops i enkelte områder.  Her er første workshop.
X-ALT-DESC:Rekruttering er et tema som diskuteres i mange bedrifter om dagen. I m&#248;tet om Rekrutteringstrender 23 august fremkom det en del &#248;nsker om mulige workshops i enkelte omr&#229;der.  Her er f&#248;rste workshop.
LOCATION:Rosenkildehuset
END:VEVENT


END:VCALENDAR



