
BEGIN:VCALENDAR
VERSION:2.0
PRODID:-//MarkedsPartner AS//Umbraco CMS//NO
TIMEZONE-ID:Europe/Oslo
X-WR-TIMEZONE:Europe/Oslo


BEGIN:VEVENT
UID:3558f9a205ef4ab68784932aebac872f
URL:https://umbraco.naeringsforeningen.no/moeter/arkiv/workshop-2-groenn-forretningsutvikling_160420/
ORGANIZER;CN=Ola Normann:MAILTO:ola.normann@markedspartner.no
DTSTAMP:20200416T100000Z
DTSTART:20200416T100000Z
DTEND:20200416T133000Z
LAST-MODIFIED:20221031T120538Z
SUMMARY:Workshop grønn forretningsutvikling
DESCRIPTION:UTSATT. NY DATO KOMMER. Tempoet og kravet til grønn omstilling tiltar. Regionens bedrifter skal være i forkant av omstillingen. Vi inviterer til en konkret workshop  for grønn forretningsutvikling, steg for steg.
X-ALT-DESC:UTSATT. NY DATO KOMMER. Tempoet og kravet til gr&#248;nn omstilling tiltar. Regionens bedrifter skal v&#230;re i forkant av omstillingen. Vi inviterer til en konkret workshop  for gr&#248;nn forretningsutvikling, steg for steg.
LOCATION:Rosenkildehuset
END:VEVENT


END:VCALENDAR



