
BEGIN:VCALENDAR
VERSION:2.0
PRODID:-//MarkedsPartner AS//Umbraco CMS//NO
TIMEZONE-ID:Europe/Oslo
X-WR-TIMEZONE:Europe/Oslo


BEGIN:VEVENT
UID:63e70a13ffd24d77bebd108de063c0f4
URL:https://umbraco.naeringsforeningen.no/moeter/arkiv/wind-works-jelsa-2023/
ORGANIZER;CN=Ola Normann:MAILTO:ola.normann@markedspartner.no
DTSTAMP:20230315T073000Z
DTSTART:20230315T073000Z
DTEND:20230315T131500Z
LAST-MODIFIED:20230316T141050Z
SUMMARY:HighWind2023 excursion day to Wind Works Jelsa
DESCRIPTION:Visit one of the largest facilities in Europe for assembly of high wind systems.
Join us for a trip into the Norwegian fjord landscape on the world's first electrical fast passenger boat, the EV Rygerelektra. The destination is Berakvam and Jelsa, and what can become a world-leading building- and assembly site for floating offshore wind systems.
X-ALT-DESC:Visit one of the largest facilities in Europe for assembly of high wind systems.
Join us for a trip into the Norwegian fjord landscape on the world&#39;s first electrical fast passenger boat, the EV Rygerelektra. The destination is Berakvam and Jelsa, and what can become a world-leading building- and assembly site for floating offshore wind systems.
LOCATION:Rygerelektra. Departure from Skagenkaien 35-37, 4006 Stavanger
END:VEVENT


END:VCALENDAR



