
BEGIN:VCALENDAR
VERSION:2.0
PRODID:-//MarkedsPartner AS//Umbraco CMS//NO
TIMEZONE-ID:Europe/Oslo
X-WR-TIMEZONE:Europe/Oslo


BEGIN:VEVENT
UID:bc87f14e24ae464db6221a5ade29bf53
URL:https://umbraco.naeringsforeningen.no/moeter/arkiv/webinarledelse-i-krisesituasjoner_240420/
ORGANIZER;CN=Ola Normann:MAILTO:ola.normann@markedspartner.no
DTSTAMP:20200424T090000Z
DTSTART:20200424T090000Z
DTEND:20200424T100000Z
LAST-MODIFIED:20221031T120732Z
SUMMARY:Webinar: Lederskolen - ledelse i krisesituasjoner
DESCRIPTION:Hvordan kan ledere håndtere organisasjoner i krise? Førsteamanuensis Tor Geir Kvinen deler refleksjoner og tanker om de utfordrende tidene vi er inne i.
X-ALT-DESC:Hvordan kan ledere h&#229;ndtere organisasjoner i krise? F&#248;rsteamanuensis Tor Geir Kvinen deler refleksjoner og tanker om de utfordrende tidene vi er inne i.
LOCATION:webinar
END:VEVENT


END:VCALENDAR



