
BEGIN:VCALENDAR
VERSION:2.0
PRODID:-//MarkedsPartner AS//Umbraco CMS//NO
TIMEZONE-ID:Europe/Oslo
X-WR-TIMEZONE:Europe/Oslo


BEGIN:VEVENT
UID:399f509257de46e6ac186054ef9899b1
URL:https://umbraco.naeringsforeningen.no/moeter/arkiv/webinar_usa_trump_toll_040425/
ORGANIZER;CN=Ola Normann:MAILTO:ola.normann@markedspartner.no
DTSTAMP:20250404T070000Z
DTSTART:20250404T070000Z
DTEND:20250404T080000Z
LAST-MODIFIED:20250404T103127Z
SUMMARY:WEBINAR: Trump, toll og handelskrig
DESCRIPTION:Nå treffer Donald Trumps tollplaner næringslivet i Stavanger-regionen. Vi har invitert med oss Kyrre M. Knudsen fra SpareBank1 Sør-Norge, Håkon Skretting fra Norwep, Alf-Christian Dybdahl fra Laerdal, statssekretær Ragnhild Sjoner Syrstad og ikke minst Robert Næss fra Nordea – for å gi deg en rykende fersk oppdatering om konsekvensene for oss.
X-ALT-DESC:N&#229; treffer Donald Trumps tollplaner n&#230;ringslivet i Stavanger-regionen. Vi har invitert med oss Kyrre M. Knudsen fra SpareBank1 S&#248;r-Norge, H&#229;kon Skretting fra Norwep, Alf-Christian Dybdahl fra Laerdal, statssekret&#230;r Ragnhild Sjoner Syrstad og ikke minst Robert N&#230;ss fra Nordea – for &#229; gi deg en rykende fersk oppdatering om konsekvensene for oss.
LOCATION:Online: Teams Town Hall
END:VEVENT


END:VCALENDAR



