
BEGIN:VCALENDAR
VERSION:2.0
PRODID:-//MarkedsPartner AS//Umbraco CMS//NO
TIMEZONE-ID:Europe/Oslo
X-WR-TIMEZONE:Europe/Oslo


BEGIN:VEVENT
UID:2d252487f40d47ecb09a00b410b54828
URL:https://umbraco.naeringsforeningen.no/moeter/arkiv/webinar_treffpunkt-stavanger_280520/
ORGANIZER;CN=Ola Normann:MAILTO:ola.normann@markedspartner.no
DTSTAMP:20200528T100000Z
DTSTART:20200528T100000Z
DTEND:20200528T113000Z
LAST-MODIFIED:20221031T121119Z
SUMMARY:Webinar: Attraktiv by- og tettstedsutvikling i Stavanger
DESCRIPTION:Hvordan skal områder i Stavanger kommune utvikles? Hvor skal vi bygge og bo? Hvilke planer gjelder nå? Hva er nytt? Og hva betyr dette for næringslivet? Delta på webinaret og få oversikt over rammer for utbygging i kommunen de neste årene.
X-ALT-DESC:Hvordan skal omr&#229;der i Stavanger kommune utvikles? Hvor skal vi bygge og bo? Hvilke planer gjelder n&#229;? Hva er nytt? Og hva betyr dette for n&#230;ringslivet? Delta p&#229; webinaret og f&#229; oversikt over rammer for utbygging i kommunen de neste &#229;rene.
LOCATION:Online
END:VEVENT


END:VCALENDAR



