
BEGIN:VCALENDAR
VERSION:2.0
PRODID:-//MarkedsPartner AS//Umbraco CMS//NO
TIMEZONE-ID:Europe/Oslo
X-WR-TIMEZONE:Europe/Oslo


BEGIN:VEVENT
UID:df7b5041cc47448fbf75be785ae936da
URL:https://umbraco.naeringsforeningen.no/moeter/arkiv/webinar_baerekraft_rapportering260122/
ORGANIZER;CN=Ola Normann:MAILTO:ola.normann@markedspartner.no
DTSTAMP:20230126T080000Z
DTSTART:20230126T080000Z
DTEND:20230126T090000Z
LAST-MODIFIED:20230126T125257Z
SUMMARY:AGENDA: Slik rapporterer du bærekraft
DESCRIPTION:Bærekraftsrapportering er, som tradisjonell finansiell rapportering, viktig for å øke åpenhet, troverdighet og tillit i næringslivet.
X-ALT-DESC:B&#230;rekraftsrapportering er, som tradisjonell finansiell rapportering, viktig for &#229; &#248;ke &#229;penhet, troverdighet og tillit i n&#230;ringslivet.
LOCATION:Webinar
END:VEVENT


END:VCALENDAR



