
BEGIN:VCALENDAR
VERSION:2.0
PRODID:-//MarkedsPartner AS//Umbraco CMS//NO
TIMEZONE-ID:Europe/Oslo
X-WR-TIMEZONE:Europe/Oslo


BEGIN:VEVENT
UID:936166896ed04aadb28f10c9b707e5c2
URL:https://umbraco.naeringsforeningen.no/moeter/arkiv/webinar-om-ny-kontantstoetteordning/
ORGANIZER;CN=Ola Normann:MAILTO:ola.normann@markedspartner.no
DTSTAMP:20200417T110000Z
DTSTART:20200417T110000Z
DTEND:20200417T123000Z
LAST-MODIFIED:20221031T120600Z
SUMMARY:Webinar: Hvordan ta del i krisepakken?
DESCRIPTION:Fyller din bedrift kriteriene for å ta del i regjeringens nye «kontantstøtteordning» for næringslivet? Delta på webinar og bli oppdatert!
X-ALT-DESC:Fyller din bedrift kriteriene for &#229; ta del i regjeringens nye &#171;kontantst&#248;tteordning&#187; for n&#230;ringslivet? Delta p&#229; webinar og bli oppdatert!
LOCATION:Web
END:VEVENT


END:VCALENDAR



