
BEGIN:VCALENDAR
VERSION:2.0
PRODID:-//MarkedsPartner AS//Umbraco CMS//NO
TIMEZONE-ID:Europe/Oslo
X-WR-TIMEZONE:Europe/Oslo


BEGIN:VEVENT
UID:3f58c1af8eea4e0ab5973b64ce393ae5
URL:https://umbraco.naeringsforeningen.no/moeter/arkiv/webinar-oljekrisepakken/
ORGANIZER;CN=Ola Normann:MAILTO:ola.normann@markedspartner.no
DTSTAMP:20200514T110000Z
DTSTART:20200514T110000Z
DTEND:20200514T123000Z
LAST-MODIFIED:20221031T121001Z
SUMMARY:Webinar: Bidrar krisepakken til å holde oljetrykket oppe?
DESCRIPTION:Vil regjeringens krisepakke bidra til at vi unngår et brutalt fall i oljeinvesteringene i år og neste år? Bør pakken forsterkes, og i tilfellet hvordan? Vi har invitert Kyrre Knudsen, Ulf Rosenberg og Ståle Kyllingstad til å dele sine tanker om pakken.
X-ALT-DESC:Vil regjeringens krisepakke bidra til at vi unng&#229;r et brutalt fall i oljeinvesteringene i &#229;r og neste &#229;r? B&#248;r pakken forsterkes, og i tilfellet hvordan? Vi har invitert Kyrre Knudsen, Ulf Rosenberg og St&#229;le Kyllingstad til &#229; dele sine tanker om pakken.
LOCATION:Online
END:VEVENT


END:VCALENDAR



