
BEGIN:VCALENDAR
VERSION:2.0
PRODID:-//MarkedsPartner AS//Umbraco CMS//NO
TIMEZONE-ID:Europe/Oslo
X-WR-TIMEZONE:Europe/Oslo


BEGIN:VEVENT
UID:70df3624af7648f3a973349d272a4e99
URL:https://umbraco.naeringsforeningen.no/moeter/arkiv/webinar-oekonomiske-utsikter-i-sandnes/
ORGANIZER;CN=Ola Normann:MAILTO:ola.normann@markedspartner.no
DTSTAMP:20200610T130000Z
DTSTART:20200610T130000Z
DTEND:20200610T140000Z
LAST-MODIFIED:20221031T121355Z
SUMMARY:Webinar: Økonomiske utsikter i Sandnes
DESCRIPTION:Hvordan rammes økonomien i Sandnes av covid-19 og oljeprisfallet? Og hva betyr krisen for lommeboka til de lokale bedriftene? Delta på webinaret i møteserien "Treffpunkt Sandnes", og få svar på hvilke forventninger kommunen og Sandnes Sparebank har til den økonomiske situasjonen i tiden fremover.
X-ALT-DESC:Hvordan rammes &#248;konomien i Sandnes av covid-19 og oljeprisfallet? Og hva betyr krisen for lommeboka til de lokale bedriftene? Delta p&#229; webinaret i m&#248;teserien &quot;Treffpunkt Sandnes&quot;, og f&#229; svar p&#229; hvilke forventninger kommunen og Sandnes Sparebank har til den &#248;konomiske situasjonen i tiden fremover.
LOCATION:Online
END:VEVENT


END:VCALENDAR



