
BEGIN:VCALENDAR
VERSION:2.0
PRODID:-//MarkedsPartner AS//Umbraco CMS//NO
TIMEZONE-ID:Europe/Oslo
X-WR-TIMEZONE:Europe/Oslo


BEGIN:VEVENT
UID:2d10051a84564c6f93ee886f5085d528
URL:https://umbraco.naeringsforeningen.no/moeter/arkiv/webinar-nedbemanning-og-off-boarding/
ORGANIZER;CN=Ola Normann:MAILTO:ola.normann@markedspartner.no
DTSTAMP:20200603T110000Z
DTSTART:20200603T110000Z
DTEND:20200603T120000Z
LAST-MODIFIED:20221031T121235Z
SUMMARY:Webinar: Forsvarlig nedbemanning
DESCRIPTION:Hvilke juridiske regler gjelder ved en nedbemanningsprosess og hvordan avslutter man et arbeidsforhold uten risiko? Bli med på webinar og lær av PwC.
X-ALT-DESC:Hvilke juridiske regler gjelder ved en nedbemanningsprosess og hvordan avslutter man et arbeidsforhold uten risiko? Bli med p&#229; webinar og l&#230;r av PwC.
LOCATION:Online
END:VEVENT


END:VCALENDAR



