
BEGIN:VCALENDAR
VERSION:2.0
PRODID:-//MarkedsPartner AS//Umbraco CMS//NO
TIMEZONE-ID:Europe/Oslo
X-WR-TIMEZONE:Europe/Oslo


BEGIN:VEVENT
UID:6e5f50bd61c74a4eaa51033d5a21fb3b
URL:https://umbraco.naeringsforeningen.no/moeter/arkiv/webinar-med-nscc_230620/
ORGANIZER;CN=Ola Normann:MAILTO:ola.normann@markedspartner.no
DTSTAMP:20200623T110000Z
DTSTART:20200623T110000Z
DTEND:20200623T123000Z
LAST-MODIFIED:20221031T121505Z
SUMMARY:Webinar: Livet etter krisepakkene
DESCRIPTION:Hvordan skal næringslivet rigge seg for hverdagen etter krisen?
X-ALT-DESC:Hvordan skal n&#230;ringslivet rigge seg for hverdagen etter krisen?
LOCATION:
END:VEVENT


END:VCALENDAR



