
BEGIN:VCALENDAR
VERSION:2.0
PRODID:-//MarkedsPartner AS//Umbraco CMS//NO
TIMEZONE-ID:Europe/Oslo
X-WR-TIMEZONE:Europe/Oslo


BEGIN:VEVENT
UID:aa3b9ac811604d6ea8dd9e3d48eb6f6e
URL:https://umbraco.naeringsforeningen.no/moeter/arkiv/webinar-med-innovasjon-norge_080520/
ORGANIZER;CN=Ola Normann:MAILTO:ola.normann@markedspartner.no
DTSTAMP:20200508T110000Z
DTSTART:20200508T110000Z
DTEND:20200508T123000Z
LAST-MODIFIED:20221031T120945Z
SUMMARY:Webinar: Muligheter i koronatider
DESCRIPTION:Koronakrise kan også bety nye muligheter. I dette webinaret vil du høre mer om hvordan økte bevilgninger til Innovasjon Norge kan hjelpe din bedrift.
X-ALT-DESC:Koronakrise kan ogs&#229; bety nye muligheter. I dette webinaret vil du h&#248;re mer om hvordan &#248;kte bevilgninger til Innovasjon Norge kan hjelpe din bedrift.
LOCATION:Web
END:VEVENT


END:VCALENDAR



