
BEGIN:VCALENDAR
VERSION:2.0
PRODID:-//MarkedsPartner AS//Umbraco CMS//NO
TIMEZONE-ID:Europe/Oslo
X-WR-TIMEZONE:Europe/Oslo


BEGIN:VEVENT
UID:32fc15f88da54d7d823ec37ca23248a5
URL:https://umbraco.naeringsforeningen.no/moeter/arkiv/webinar-lunch-and-learn_200320/
ORGANIZER;CN=Ola Normann:MAILTO:ola.normann@markedspartner.no
DTSTAMP:20200320T110000Z
DTSTART:20200320T110000Z
DTEND:20200320T113000Z
LAST-MODIFIED:20221031T120221Z
SUMMARY:WEBINAR Lunch and Learn: Labour Law
DESCRIPTION:Labour Law! It is a state of emergency, and both employers and employees face situations they have not previously experienced.
X-ALT-DESC:Labour Law! It is a state of emergency, and both employers and employees face situations they have not previously experienced.
LOCATION:Rosenkildehuset
END:VEVENT


END:VCALENDAR



