
BEGIN:VCALENDAR
VERSION:2.0
PRODID:-//MarkedsPartner AS//Umbraco CMS//NO
TIMEZONE-ID:Europe/Oslo
X-WR-TIMEZONE:Europe/Oslo


BEGIN:VEVENT
UID:70c6b5e6bf9b47ef8e6d720b4299fae1
URL:https://umbraco.naeringsforeningen.no/moeter/arkiv/webinar-lederskolen_200605/
ORGANIZER;CN=Ola Normann:MAILTO:ola.normann@markedspartner.no
DTSTAMP:20200605T090000Z
DTSTART:20200605T090000Z
DTEND:20200605T100000Z
LAST-MODIFIED:20221031T121319Z
SUMMARY:Webinar: Endringsledelse med Helene Loe Colman
DESCRIPTION:Som leder er det avgjørende at du kan håndtere omstilling, utvikling, nye krav og utfordringer på løpende bånd. Professor Helene Loe Colman forteller deg hvorfor.
X-ALT-DESC:Som leder er det avgj&#248;rende at du kan h&#229;ndtere omstilling, utvikling, nye krav og utfordringer p&#229; l&#248;pende b&#229;nd. Professor Helene Loe Colman forteller deg hvorfor.
LOCATION:webinar
END:VEVENT


END:VCALENDAR



