
BEGIN:VCALENDAR
VERSION:2.0
PRODID:-//MarkedsPartner AS//Umbraco CMS//NO
TIMEZONE-ID:Europe/Oslo
X-WR-TIMEZONE:Europe/Oslo


BEGIN:VEVENT
UID:7316278c36e94477aa73cdd442138847
URL:https://umbraco.naeringsforeningen.no/moeter/arkiv/webinar-lean-og-smittevern/
ORGANIZER;CN=Ola Normann:MAILTO:ola.normann@markedspartner.no
DTSTAMP:20200515T110000Z
DTSTART:20200515T110000Z
DTEND:20200515T120000Z
LAST-MODIFIED:20221031T121008Z
SUMMARY:Webinar: Lean og smittevern
DESCRIPTION:Koronakrisen vil gi varige endringer i hvordan private og offentlige virksomheter opererer. Hvordan kan Lean-filosofien bidra til å styrke forbedringsarbeidet?
X-ALT-DESC:Koronakrisen vil gi varige endringer i hvordan private og offentlige virksomheter opererer. Hvordan kan Lean-filosofien bidra til &#229; styrke forbedringsarbeidet?
LOCATION:
END:VEVENT


END:VCALENDAR



