
BEGIN:VCALENDAR
VERSION:2.0
PRODID:-//MarkedsPartner AS//Umbraco CMS//NO
TIMEZONE-ID:Europe/Oslo
X-WR-TIMEZONE:Europe/Oslo


BEGIN:VEVENT
UID:2dc497ebb6d546d5a722b0937f7de3c2
URL:https://umbraco.naeringsforeningen.no/moeter/arkiv/webinar-generalforsamling_280520/
ORGANIZER;CN=Ola Normann:MAILTO:ola.normann@markedspartner.no
DTSTAMP:20200528T120000Z
DTSTART:20200528T120000Z
DTEND:20200528T130000Z
LAST-MODIFIED:20221031T121138Z
SUMMARY:Webinar: Generalforsamling
DESCRIPTION:Velkommen til årets generalforsamling i Næringsforeningen.
X-ALT-DESC:Velkommen til &#229;rets generalforsamling i N&#230;ringsforeningen.
LOCATION:Rosenkildehuset
END:VEVENT


END:VCALENDAR



