
BEGIN:VCALENDAR
VERSION:2.0
PRODID:-//MarkedsPartner AS//Umbraco CMS//NO
TIMEZONE-ID:Europe/Oslo
X-WR-TIMEZONE:Europe/Oslo


BEGIN:VEVENT
UID:59c8a9d3da4c452b8663a476bf017bce
URL:https://umbraco.naeringsforeningen.no/moeter/arkiv/webinar-digital-markedsfoering-vi-operasjonell-markedsfoerer/
ORGANIZER;CN=Ola Normann:MAILTO:ola.normann@markedspartner.no
DTSTAMP:20200424T063000Z
DTSTART:20200424T063000Z
DTEND:20200424T080000Z
LAST-MODIFIED:20221031T120726Z
SUMMARY:Webinar: Digital markedsføring – Operasjonell markedsfører: 1+1=3
DESCRIPTION:Dette foredraget blir avholdt digitalt. Alle påmeldte mottar informasjon om innlogging i forkant av kurset.
X-ALT-DESC:Dette foredraget blir avholdt digitalt. Alle p&#229;meldte mottar informasjon om innlogging i forkant av kurset.
LOCATION:Online
END:VEVENT


END:VCALENDAR



