
BEGIN:VCALENDAR
VERSION:2.0
PRODID:-//MarkedsPartner AS//Umbraco CMS//NO
TIMEZONE-ID:Europe/Oslo
X-WR-TIMEZONE:Europe/Oslo


BEGIN:VEVENT
UID:b6df537105614cc992c55555fee3367a
URL:https://umbraco.naeringsforeningen.no/moeter/arkiv/webinar-digital-hverdag-290520/
ORGANIZER;CN=Ola Normann:MAILTO:ola.normann@markedspartner.no
DTSTAMP:20200529T110000Z
DTSTART:20200529T110000Z
DTEND:20200529T120000Z
LAST-MODIFIED:20221031T121155Z
SUMMARY:AVLYST: Webinar De nye normale rutinene
DESCRIPTION:Dette webinaret er avlyst.
X-ALT-DESC:Dette webinaret er avlyst.
LOCATION:Online
END:VEVENT


END:VCALENDAR



