
BEGIN:VCALENDAR
VERSION:2.0
PRODID:-//MarkedsPartner AS//Umbraco CMS//NO
TIMEZONE-ID:Europe/Oslo
X-WR-TIMEZONE:Europe/Oslo


BEGIN:VEVENT
UID:4acac9a187f34f80ab4569ca66ceafe1
URL:https://umbraco.naeringsforeningen.no/moeter/arkiv/webinar-design-thinking-070520/
ORGANIZER;CN=Ola Normann:MAILTO:ola.normann@markedspartner.no
DTSTAMP:20200507T110000Z
DTSTART:20200507T110000Z
DTEND:20200507T114500Z
LAST-MODIFIED:20221031T120920Z
SUMMARY:Webinar: Innovasjon i krisetider
DESCRIPTION:Mathias Molden fra Kolumbus gir deg inspirasjon og gode råd til å gjøre rask og riktig innovasjon i bedriften.
X-ALT-DESC:Mathias Molden fra Kolumbus gir deg inspirasjon og gode r&#229;d til &#229; gj&#248;re rask og riktig innovasjon i bedriften.
LOCATION:Webinar
END:VEVENT


END:VCALENDAR



