
BEGIN:VCALENDAR
VERSION:2.0
PRODID:-//MarkedsPartner AS//Umbraco CMS//NO
TIMEZONE-ID:Europe/Oslo
X-WR-TIMEZONE:Europe/Oslo


BEGIN:VEVENT
UID:107c5287298347709fce59d0c6cd9c24
URL:https://umbraco.naeringsforeningen.no/moeter/arkiv/webinar-byggeboersen-krisepakke/
ORGANIZER;CN=Ola Normann:MAILTO:ola.normann@markedspartner.no
DTSTAMP:20200416T120000Z
DTSTART:20200416T120000Z
DTEND:20200416T140000Z
LAST-MODIFIED:20221031T120544Z
SUMMARY:Webinar: Byggebørsen Krisepakke
DESCRIPTION:Nå skal kommunene i regionen presentere sine tiltak for å hjelpe en bygge- og anleggsnæring som er hardt rammet av koronakrisen.
X-ALT-DESC:N&#229; skal kommunene i regionen presentere sine tiltak for &#229; hjelpe en bygge- og anleggsn&#230;ring som er hardt rammet av koronakrisen.
LOCATION:Online
END:VEVENT


END:VCALENDAR



