
BEGIN:VCALENDAR
VERSION:2.0
PRODID:-//MarkedsPartner AS//Umbraco CMS//NO
TIMEZONE-ID:Europe/Oslo
X-WR-TIMEZONE:Europe/Oslo


BEGIN:VEVENT
UID:76f03069eaf14d7e8f8400f377f351db
URL:https://umbraco.naeringsforeningen.no/moeter/arkiv/webinar-ata-carnet/
ORGANIZER;CN=Ola Normann:MAILTO:ola.normann@markedspartner.no
DTSTAMP:20200528T110000Z
DTSTART:20200528T110000Z
DTEND:20200528T120000Z
LAST-MODIFIED:20221031T121146Z
SUMMARY:Webinar: ATA-carnet – slik brukes det riktig
DESCRIPTION:Spar bedriften din for tid og penger – bruk ATA-carnet, tolldokumentet for midlertidig innførsel av varer.
X-ALT-DESC:Spar bedriften din for tid og penger – bruk ATA-carnet, tolldokumentet for midlertidig innf&#248;rsel av varer.
LOCATION:Online
END:VEVENT


END:VCALENDAR



