
BEGIN:VCALENDAR
VERSION:2.0
PRODID:-//MarkedsPartner AS//Umbraco CMS//NO
TIMEZONE-ID:Europe/Oslo
X-WR-TIMEZONE:Europe/Oslo


BEGIN:VEVENT
UID:c0dbf18bfcdf4200ac87f760f3e1b80e
URL:https://umbraco.naeringsforeningen.no/moeter/arkiv/webinar-ata-carnet-1/
ORGANIZER;CN=Ola Normann:MAILTO:ola.normann@markedspartner.no
DTSTAMP:20201110T120000Z
DTSTART:20201110T120000Z
DTEND:20201110T130000Z
LAST-MODIFIED:20221031T115214Z
SUMMARY:Webinar: ATA-carnet – slik brukes det riktig
DESCRIPTION:La oss hjelpe deg! 
Vi utsteder et internasjonalt tolldokument som forenkler tollekspedisjonen og erstatter alle eksport-, import- og transitteringsdokumenter. Det heter ATA-carnet. Alt du trenger finnes i ett dokument!

Kom og lær mer om ATA-carnet og hvordan du bruker dokumentet.
X-ALT-DESC:La oss hjelpe deg! 
Vi utsteder et internasjonalt tolldokument som forenkler tollekspedisjonen og erstatter alle eksport-, import- og transitteringsdokumenter. Det heter ATA-carnet. Alt du trenger finnes i ett dokument!

Kom og l&#230;r mer om ATA-carnet og hvordan du bruker dokumentet.
LOCATION:Online
END:VEVENT


END:VCALENDAR



