
BEGIN:VCALENDAR
VERSION:2.0
PRODID:-//MarkedsPartner AS//Umbraco CMS//NO
TIMEZONE-ID:Europe/Oslo
X-WR-TIMEZONE:Europe/Oslo


BEGIN:VEVENT
UID:3dfef372817541a3bc7d400e67ceade7
URL:https://umbraco.naeringsforeningen.no/moeter/arkiv/webinar-arbeidsplassennavno_010420/
ORGANIZER;CN=Ola Normann:MAILTO:ola.normann@markedspartner.no
DTSTAMP:20200401T110000Z
DTSTART:20200401T110000Z
DTEND:20200401T114500Z
LAST-MODIFIED:20221031T120427Z
SUMMARY:Webinar: Arbeidsplassen.nav.no
DESCRIPTION:Brobygging mellom aktører som søker folk og folk som søker jobb!
X-ALT-DESC:Brobygging mellom akt&#248;rer som s&#248;ker folk og folk som s&#248;ker jobb!
LOCATION:Online
END:VEVENT


END:VCALENDAR



