
BEGIN:VCALENDAR
VERSION:2.0
PRODID:-//MarkedsPartner AS//Umbraco CMS//NO
TIMEZONE-ID:Europe/Oslo
X-WR-TIMEZONE:Europe/Oslo


BEGIN:VEVENT
UID:6409a08d5ef04c6fa012374f2ebcf282
URL:https://umbraco.naeringsforeningen.no/moeter/arkiv/vind_080421/
ORGANIZER;CN=Ola Normann:MAILTO:ola.normann@markedspartner.no
DTSTAMP:20210615T083000Z
DTSTART:20210615T083000Z
DTEND:20210615T100000Z
LAST-MODIFIED:20221031T122105Z
SUMMARY:Havvind – en vekstnæring på norsk sokkel!
DESCRIPTION:DIGITAL KONFERANSE: Kom og hør olje- og energiminister Tina Bru presentere veilederen for utvikling av havvind på sokkelen!
X-ALT-DESC:DIGITAL KONFERANSE: Kom og h&#248;r olje- og energiminister Tina Bru presentere veilederen for utvikling av havvind p&#229; sokkelen!
LOCATION:Webinar
END:VEVENT


END:VCALENDAR



