
BEGIN:VCALENDAR
VERSION:2.0
PRODID:-//MarkedsPartner AS//Umbraco CMS//NO
TIMEZONE-ID:Europe/Oslo
X-WR-TIMEZONE:Europe/Oslo


BEGIN:VEVENT
UID:dd18ac9d045b4955b4f8e74386cac3e2
URL:https://umbraco.naeringsforeningen.no/moeter/arkiv/verdiskapingsforum2024/
ORGANIZER;CN=Ola Normann:MAILTO:ola.normann@markedspartner.no
DTSTAMP:20241115T073000Z
DTSTART:20241115T073000Z
DTEND:20241115T110000Z
LAST-MODIFIED:20241115T114512Z
SUMMARY:Verdiskapingsforum UiS: Veiskille for kunnskapsutviklingen
DESCRIPTION:Verdiskapingsforum er møteplassen hvor utdanning, innovasjon og næringsliv møtes for å diskutere spørsmålet om hvordan vi skal dekke kompetansebehovet i Rogaland i årene som kommer.
X-ALT-DESC:Verdiskapingsforum er m&#248;teplassen hvor utdanning, innovasjon og n&#230;ringsliv m&#248;tes for &#229; diskutere sp&#248;rsm&#229;let om hvordan vi skal dekke kompetansebehovet i Rogaland i &#229;rene som kommer.
LOCATION:Universitetet i Stavanger, Kjell Arholms hus, Auditorium 1
END:VEVENT


END:VCALENDAR



