
BEGIN:VCALENDAR
VERSION:2.0
PRODID:-//MarkedsPartner AS//Umbraco CMS//NO
TIMEZONE-ID:Europe/Oslo
X-WR-TIMEZONE:Europe/Oslo


BEGIN:VEVENT
UID:7b5619cbce02469099d715857631affa
URL:https://umbraco.naeringsforeningen.no/moeter/arkiv/verden-og-oss_mai2025/
ORGANIZER;CN=Ola Normann:MAILTO:ola.normann@markedspartner.no
DTSTAMP:20250507T080000Z
DTSTART:20250507T080000Z
DTEND:20250507T100000Z
LAST-MODIFIED:20250507T105105Z
SUMMARY:Verden og oss
DESCRIPTION:Verden blir for mange mer og mer uforutsigbar. Krigen i Ukraina fortsetter, krigen på Gaza tar ikke slutt – og i Washington regjerer Donald Trump. Hvordan skal vi navigere i en uforutsigbar verden? Bli med på lunsjmøte når vi får besøk av Ine Marie Eriksen Søreide!
X-ALT-DESC:Verden blir for mange mer og mer uforutsigbar. Krigen i Ukraina fortsetter, krigen p&#229; Gaza tar ikke slutt – og i Washington regjerer Donald Trump. Hvordan skal vi navigere i en uforutsigbar verden? Bli med p&#229; lunsjm&#248;te n&#229;r vi f&#229;r bes&#248;k av Ine Marie Eriksen S&#248;reide!
LOCATION:Rosenkildehuset
END:VEVENT


END:VCALENDAR



