
BEGIN:VCALENDAR
VERSION:2.0
PRODID:-//MarkedsPartner AS//Umbraco CMS//NO
TIMEZONE-ID:Europe/Oslo
X-WR-TIMEZONE:Europe/Oslo


BEGIN:VEVENT
UID:745fbcb885b148999477b664b14ce546
URL:https://umbraco.naeringsforeningen.no/moeter/arkiv/vellykkede-onboardingprosesser_161122/
ORGANIZER;CN=Ola Normann:MAILTO:ola.normann@markedspartner.no
DTSTAMP:20221116T073000Z
DTSTART:20221116T073000Z
DTEND:20221116T103000Z
LAST-MODIFIED:20221116T132157Z
SUMMARY:Slik beholder - og utvikler - du kompetansen
DESCRIPTION:Onboarding er rangert, etter effektiv rekruttering og utvelgelse, som en av de viktigste tilnærmingene virksomheter kan bruke for å forbedre sin evne til å trekke til seg, rekruttere, integrere, utvikle og beholde medarbeidere. Lær mer om hvordan du beholder medarbeiderne og dermed styrker konkurranseevnen!
X-ALT-DESC:Onboarding er rangert, etter effektiv rekruttering og utvelgelse, som en av de viktigste tiln&#230;rmingene virksomheter kan bruke for &#229; forbedre sin evne til &#229; trekke til seg, rekruttere, integrere, utvikle og beholde medarbeidere. L&#230;r mer om hvordan du beholder medarbeiderne og dermed styrker konkurranseevnen!
LOCATION:Rosenkildehuset
END:VEVENT


END:VCALENDAR



