
BEGIN:VCALENDAR
VERSION:2.0
PRODID:-//MarkedsPartner AS//Umbraco CMS//NO
TIMEZONE-ID:Europe/Oslo
X-WR-TIMEZONE:Europe/Oslo


BEGIN:VEVENT
UID:4f2346e6b17d48deb5f295c3e27371f3
URL:https://umbraco.naeringsforeningen.no/moeter/arkiv/valgvake-presidentvalget-i-usa/
ORGANIZER;CN=Ola Normann:MAILTO:ola.normann@markedspartner.no
DTSTAMP:20201104T040000Z
DTSTART:20201104T040000Z
DTEND:20201104T070000Z
LAST-MODIFIED:20221031T115157Z
SUMMARY:Valgvake: Presidentvalget i USA
DESCRIPTION:For 4 år siden ønsket vi velkommen til valg-vake på Ostehuset. Da trodde vi at vi skulle overvære et historisk valg av USA’s første kvinnelige president, men slik ble det ikke. I stedet ble vi vitne til at i slike valg kan alt skje!
X-ALT-DESC:For 4 &#229;r siden &#248;nsket vi velkommen til valg-vake p&#229; Ostehuset. Da trodde vi at vi skulle overv&#230;re et historisk valg av USA’s f&#248;rste kvinnelige president, men slik ble det ikke. I stedet ble vi vitne til at i slike valg kan alt skje!
LOCATION:Ostehuset Sentrum
END:VEVENT


END:VCALENDAR



