
BEGIN:VCALENDAR
VERSION:2.0
PRODID:-//MarkedsPartner AS//Umbraco CMS//NO
TIMEZONE-ID:Europe/Oslo
X-WR-TIMEZONE:Europe/Oslo


BEGIN:VEVENT
UID:231765659bda4c7bb04d40ff68538c54
URL:https://umbraco.naeringsforeningen.no/moeter/arkiv/utvikling-og-attraktivitet-i-gjesdal/
ORGANIZER;CN=Ola Normann:MAILTO:ola.normann@markedspartner.no
DTSTAMP:20191106T071500Z
DTSTART:20191106T071500Z
DTEND:20191106T094500Z
LAST-MODIFIED:20221031T114147Z
SUMMARY:Hvordan gjøre Gjesdal mer attraktiv?
DESCRIPTION:Velkommen til Gjesdal sin store møteplass, med fokus på hvordan vi kan gjøre Gjesdal mer attraktiv for nye næringer, bosettinger og utvikling.
X-ALT-DESC:Velkommen til Gjesdal sin store m&#248;teplass, med fokus p&#229; hvordan vi kan gj&#248;re Gjesdal mer attraktiv for nye n&#230;ringer, bosettinger og utvikling.
LOCATION:J&#230;derst&#229;vo, &#197;lg&#229;rd FK
END:VEVENT


END:VCALENDAR



