
BEGIN:VCALENDAR
VERSION:2.0
PRODID:-//MarkedsPartner AS//Umbraco CMS//NO
TIMEZONE-ID:Europe/Oslo
X-WR-TIMEZONE:Europe/Oslo


BEGIN:VEVENT
UID:d48f37bdfd3f42718c936ff7deebb3f8
URL:https://umbraco.naeringsforeningen.no/moeter/arkiv/utslippsfrie-byggeplasser/
ORGANIZER;CN=Ola Normann:MAILTO:ola.normann@markedspartner.no
DTSTAMP:20220426T063000Z
DTSTART:20220426T063000Z
DTEND:20220426T083000Z
LAST-MODIFIED:20221031T122233Z
SUMMARY:AGENDA BYGG: Utslippsfrie byggeplasser – slik blir de nye kravene
DESCRIPTION:Nå kommer kravene om utslippsfrie byggeplasser for fullt i Stavanger-regionen. Alle i bransjen må forholde seg til den nye virkeligheten. På Agenda Bygg vil Zakarias Chibssa fra Stavanger kommune presentere hvordan det blir hos kommunen, Olav Silde fra Stangeland Maskin forteller hvilke muligheter og utfordringer de ser for seg – mens Rannveig Eidem Norfolk fra Lnett tar for seg hvordan du skal få nok strøm på byggeplassen.
X-ALT-DESC:N&#229; kommer kravene om utslippsfrie byggeplasser for fullt i Stavanger-regionen. Alle i bransjen m&#229; forholde seg til den nye virkeligheten. P&#229; Agenda Bygg vil Zakarias Chibssa fra Stavanger kommune presentere hvordan det blir hos kommunen, Olav Silde fra Stangeland Maskin forteller hvilke muligheter og utfordringer de ser for seg – mens Rannveig Eidem Norfolk fra Lnett tar for seg hvordan du skal f&#229; nok str&#248;m p&#229; byggeplassen.
LOCATION:Rosenkildehuset
END:VEVENT


END:VCALENDAR



