
BEGIN:VCALENDAR
VERSION:2.0
PRODID:-//MarkedsPartner AS//Umbraco CMS//NO
TIMEZONE-ID:Europe/Oslo
X-WR-TIMEZONE:Europe/Oslo


BEGIN:VEVENT
UID:47ad10cc1cd64027931b08bbea35d4f6
URL:https://umbraco.naeringsforeningen.no/moeter/arkiv/utsikter-2025/
ORGANIZER;CN=Ola Normann:MAILTO:ola.normann@markedspartner.no
DTSTAMP:20250213T073000Z
DTSTART:20250213T073000Z
DTEND:20250213T120000Z
LAST-MODIFIED:20250214T151948Z
SUMMARY:UTSIKTER 2025 
DESCRIPTION:Hva skjer i 2025? På UTSIKTER gir vi deg perspektivene. Møt Ole Ertvaag, Ketil Solvik-Olsen og Kelly Chen, og få den årlige økonomiske rapporten fra Eirik Larsen. Velkommen til den 20. utgaven av UTSIKTER i K8!
X-ALT-DESC:Hva skjer i 2025? P&#229; UTSIKTER gir vi deg perspektivene. M&#248;t Ole Ertvaag, Ketil Solvik-Olsen og Kelly Chen, og f&#229; den &#229;rlige &#248;konomiske rapporten fra Eirik Larsen. Velkommen til den 20. utgaven av UTSIKTER i K8!
LOCATION:K8, Stavanger
END:VEVENT


END:VCALENDAR



