
BEGIN:VCALENDAR
VERSION:2.0
PRODID:-//MarkedsPartner AS//Umbraco CMS//NO
TIMEZONE-ID:Europe/Oslo
X-WR-TIMEZONE:Europe/Oslo


BEGIN:VEVENT
UID:fbf6c9d04ec04689a658211b7b666a8c
URL:https://umbraco.naeringsforeningen.no/moeter/arkiv/utsikter-2024/
ORGANIZER;CN=Ola Normann:MAILTO:ola.normann@markedspartner.no
DTSTAMP:20240404T070000Z
DTSTART:20240404T070000Z
DTEND:20240404T110000Z
LAST-MODIFIED:20240913T133933Z
SUMMARY:UTSIKTER 2024 
DESCRIPTION:På UTSIKTER får du et innblikk i makroøkonomi, geopolitisk risiko, samt en gjennomgang av norsk økonomi, renteutviklingen, kronekursen, inflasjonen, boligmarkedet og utsiktene for Rogaland. I tillegg vil du lære mer om kunstig intelligens. Velkommen til den 19. utgaven av UTSIKTER!
X-ALT-DESC:P&#229; UTSIKTER f&#229;r du et innblikk i makro&#248;konomi, geopolitisk risiko, samt en gjennomgang av norsk &#248;konomi, renteutviklingen, kronekursen, inflasjonen, boligmarkedet og utsiktene for Rogaland. I tillegg vil du l&#230;re mer om kunstig intelligens. Velkommen til den 19. utgaven av UTSIKTER!
LOCATION:K8, Stavanger
END:VEVENT


END:VCALENDAR



