
BEGIN:VCALENDAR
VERSION:2.0
PRODID:-//MarkedsPartner AS//Umbraco CMS//NO
TIMEZONE-ID:Europe/Oslo
X-WR-TIMEZONE:Europe/Oslo


BEGIN:VEVENT
UID:6f4040af78d14e9083cf45e4cb2340c7
URL:https://umbraco.naeringsforeningen.no/moeter/arkiv/utsikter-2023/
ORGANIZER;CN=Ola Normann:MAILTO:ola.normann@markedspartner.no
DTSTAMP:20230210T093000Z
DTSTART:20230210T093000Z
DTEND:20230210T123000Z
LAST-MODIFIED:20230213T112733Z
SUMMARY:UTSIKTER 2023
DESCRIPTION:På Utsikter 2023 kommer Eirik Larsen fra DNB Markets og tidligere forsvarssjef Sverre Diesen. Du får en gjennomgang av norsk økonomi, renteutviklingen, kronekursen, inflasjonen, boligmarkedet og utsiktene for Rogaland. Vi vil også ta for oss betydningen av krigen i Ukraina. Velkommen til den 18. utgaven av Utsikter!
X-ALT-DESC:P&#229; Utsikter 2023 kommer Eirik Larsen fra DNB Markets og tidligere forsvarssjef Sverre Diesen. Du f&#229;r en gjennomgang av norsk &#248;konomi, renteutviklingen, kronekursen, inflasjonen, boligmarkedet og utsiktene for Rogaland. Vi vil ogs&#229; ta for oss betydningen av krigen i Ukraina. Velkommen til den 18. utgaven av Utsikter!
LOCATION:Rosenkildehuset
END:VEVENT


END:VCALENDAR



