
BEGIN:VCALENDAR
VERSION:2.0
PRODID:-//MarkedsPartner AS//Umbraco CMS//NO
TIMEZONE-ID:Europe/Oslo
X-WR-TIMEZONE:Europe/Oslo


BEGIN:VEVENT
UID:d4bcc20f0c4940bc99f3e87e9d6313e5
URL:https://umbraco.naeringsforeningen.no/moeter/arkiv/utsikter-2022_030222/
ORGANIZER;CN=Ola Normann:MAILTO:ola.normann@markedspartner.no
DTSTAMP:20220203T100000Z
DTSTART:20220203T100000Z
DTEND:20220203T113000Z
LAST-MODIFIED:20221031T122857Z
SUMMARY:Utsikter 2022
DESCRIPTION:DIGITALKONFERANSE: Hvordan er utsiktene for norsk økonomi? For 17. gang inviterer DNB og Næringsforeningen til Utsikter. Senioranalytiker i DNB Markets, Eirik Larsen, presenterer årets økonomiske rapport på Utsikter2022. Hør hvordan han vurderer markedet ved inngangen til det nye året.
X-ALT-DESC:DIGITALKONFERANSE: Hvordan er utsiktene for norsk &#248;konomi? For 17. gang inviterer DNB og N&#230;ringsforeningen til Utsikter. Senioranalytiker i DNB Markets, Eirik Larsen, presenterer &#229;rets &#248;konomiske rapport p&#229; Utsikter2022.&#160;H&#248;r hvordan han vurderer markedet ved inngangen til det nye &#229;ret.
LOCATION:webinar
END:VEVENT


END:VCALENDAR



