
BEGIN:VCALENDAR
VERSION:2.0
PRODID:-//MarkedsPartner AS//Umbraco CMS//NO
TIMEZONE-ID:Europe/Oslo
X-WR-TIMEZONE:Europe/Oslo


BEGIN:VEVENT
UID:63fcff55d93d4550a02caffb91e13e22
URL:https://umbraco.naeringsforeningen.no/moeter/arkiv/utsikter-2020/
ORGANIZER;CN=Ola Normann:MAILTO:ola.normann@markedspartner.no
DTSTAMP:20200123T070000Z
DTSTART:20200123T070000Z
DTEND:20200123T114500Z
LAST-MODIFIED:20221031T115854Z
SUMMARY:Utsikter2020
DESCRIPTION:Hvordan er utsiktene for norsk økonomi? Og hva skjer i Rogaland? For 15. gang inviterer DNB og Næringsforeningen til Utsikter. Senioranalytiker Eirik Larsen slipper årets økonomiske rapport på Utsikter2020. Velkommen!
X-ALT-DESC:Hvordan er utsiktene for norsk &#248;konomi? Og hva skjer i Rogaland? For 15. gang inviterer DNB og N&#230;ringsforeningen til Utsikter. Senioranalytiker Eirik Larsen slipper &#229;rets &#248;konomiske rapport p&#229; Utsikter2020. Velkommen!
LOCATION:Clarion Hotel AIR, Sola
END:VEVENT


END:VCALENDAR



