
BEGIN:VCALENDAR
VERSION:2.0
PRODID:-//MarkedsPartner AS//Umbraco CMS//NO
TIMEZONE-ID:Europe/Oslo
X-WR-TIMEZONE:Europe/Oslo


BEGIN:VEVENT
UID:5dd3c53ea034411db62dff6e6a431ba1
URL:https://umbraco.naeringsforeningen.no/moeter/arkiv/utelivsbransjen_271120/
ORGANIZER;CN=Ola Normann:MAILTO:ola.normann@markedspartner.no
DTSTAMP:20201127T120000Z
DTSTART:20201127T120000Z
DTEND:20201127T131500Z
LAST-MODIFIED:20221031T115432Z
SUMMARY:Hvordan kan førjulstiden for utelivsbransjen reddes?
DESCRIPTION:GRATIS DIGITALKONFERANSE: Vi inviterer til et stort dialogmøte mellom hele hotell- og utelivsbransjen og helsemyndighetene. Spørsmålet er hvordan en koronarammet næring kan komme seg gjennom den viktige førjulstiden uten å lide for store tap? Hva mer kan gjøres for å legge til rette, og hva mener helsemyndighetene faktisk er lov?
X-ALT-DESC:GRATIS DIGITALKONFERANSE: Vi inviterer til et stort dialogm&#248;te mellom hele hotell- og utelivsbransjen og helsemyndighetene. Sp&#248;rsm&#229;let er hvordan en koronarammet n&#230;ring kan komme seg gjennom den viktige f&#248;rjulstiden uten &#229; lide for store tap? Hva mer kan gj&#248;res for &#229; legge til rette, og hva mener helsemyndighetene faktisk er lov?
LOCATION:Online
END:VEVENT


END:VCALENDAR



