
BEGIN:VCALENDAR
VERSION:2.0
PRODID:-//MarkedsPartner AS//Umbraco CMS//NO
TIMEZONE-ID:Europe/Oslo
X-WR-TIMEZONE:Europe/Oslo


BEGIN:VEVENT
UID:3c50bc9d2fba4d1aa772ad5af5c62dab
URL:https://umbraco.naeringsforeningen.no/moeter/arkiv/ung-i-jobb-cv-kurs/
ORGANIZER;CN=Ola Normann:MAILTO:ola.normann@markedspartner.no
DTSTAMP:20201019T080000Z
DTSTART:20201019T080000Z
DTEND:20201019T230000Z
LAST-MODIFIED:20221031T114254Z
SUMMARY:CV kurs for unge
DESCRIPTION:
X-ALT-DESC:
LOCATION:Rosenkildehuset
END:VEVENT


END:VCALENDAR



