
BEGIN:VCALENDAR
VERSION:2.0
PRODID:-//MarkedsPartner AS//Umbraco CMS//NO
TIMEZONE-ID:Europe/Oslo
X-WR-TIMEZONE:Europe/Oslo


BEGIN:VEVENT
UID:e99d05f070274c57a39230962ce37724
URL:https://umbraco.naeringsforeningen.no/moeter/arkiv/u37treff31122/
ORGANIZER;CN=Ola Normann:MAILTO:ola.normann@markedspartner.no
DTSTAMP:20221103T173000Z
DTSTART:20221103T173000Z
DTEND:20221103T203000Z
LAST-MODIFIED:20221103T182627Z
SUMMARY:U37 Høsttreff på Lervig Local
DESCRIPTION:Velkommen til en sosial aften sammen med U37.
X-ALT-DESC:Velkommen til en sosial aften sammen med U37.
LOCATION:Lervig Local, Alexander Kiellands gate 2A, Stavanger
END:VEVENT


END:VCALENDAR



