
BEGIN:VCALENDAR
VERSION:2.0
PRODID:-//MarkedsPartner AS//Umbraco CMS//NO
TIMEZONE-ID:Europe/Oslo
X-WR-TIMEZONE:Europe/Oslo


BEGIN:VEVENT
UID:37e403a64dcd4921bf45540689c5c9d5
URL:https://umbraco.naeringsforeningen.no/moeter/arkiv/u37sommertreff/
ORGANIZER;CN=Ola Normann:MAILTO:ola.normann@markedspartner.no
DTSTAMP:20220615T170000Z
DTSTART:20220615T170000Z
DTEND:20220615T200000Z
LAST-MODIFIED:20221031T121709Z
SUMMARY:U37 inviterer til sommertreff
DESCRIPTION:Sommeren står snart for dør og det er lenge siden vi har møttes. Vi benytter derfor anledningen til å invitere til en uformell kveld med kjekke gjensyn og nye bekjentskap.
X-ALT-DESC:Sommeren st&#229;r snart for d&#248;r og det er lenge siden vi har m&#248;ttes. Vi benytter derfor anledningen til &#229; invitere til en uformell kveld med kjekke gjensyn og nye bekjentskap.
LOCATION:Broremann Bar, Skansegata 7, Stavanger
END:VEVENT


END:VCALENDAR



