
BEGIN:VCALENDAR
VERSION:2.0
PRODID:-//MarkedsPartner AS//Umbraco CMS//NO
TIMEZONE-ID:Europe/Oslo
X-WR-TIMEZONE:Europe/Oslo


BEGIN:VEVENT
UID:584e13eaeca344d6bc3a4b484fb7eedd
URL:https://umbraco.naeringsforeningen.no/moeter/arkiv/u37dalane_171122/
ORGANIZER;CN=Ola Normann:MAILTO:ola.normann@markedspartner.no
DTSTAMP:20221117T181500Z
DTSTART:20221117T181500Z
DTEND:20221117T220000Z
LAST-MODIFIED:20221122T071135Z
SUMMARY:U37 Dalane: Langholmen fra A til Å
DESCRIPTION:Nysgjerrig på hva som foregår på Langholmen? U37 Dalane inviterer til Langholmen fra A til Å!
X-ALT-DESC:Nysgjerrig p&#229; hva som foreg&#229;r p&#229; Langholmen? U37 Dalane inviterer til Langholmen fra A til &#197;!
LOCATION:Langholmen
END:VEVENT


END:VCALENDAR



