
BEGIN:VCALENDAR
VERSION:2.0
PRODID:-//MarkedsPartner AS//Umbraco CMS//NO
TIMEZONE-ID:Europe/Oslo
X-WR-TIMEZONE:Europe/Oslo


BEGIN:VEVENT
UID:e1f5bbe37dc14bcda8646c58c3908876
URL:https://umbraco.naeringsforeningen.no/moeter/arkiv/u37_kick-off_styrekandidatene_221123/
ORGANIZER;CN=Ola Normann:MAILTO:ola.normann@markedspartner.no
DTSTAMP:20231122T180000Z
DTSTART:20231122T180000Z
DTEND:20231122T200000Z
LAST-MODIFIED:20231123T143105Z
SUMMARY:Kick off Styrekandidatene 2024
DESCRIPTION:Er du under 37 år og ønsker styreerfaring? Da er Styrekandidatene noe for deg.
X-ALT-DESC:Er du under 37 &#229;r og &#248;nsker styreerfaring? Da er Styrekandidatene noe for deg.
LOCATION:Rosenkildehuset
END:VEVENT


END:VCALENDAR



