
BEGIN:VCALENDAR
VERSION:2.0
PRODID:-//MarkedsPartner AS//Umbraco CMS//NO
TIMEZONE-ID:Europe/Oslo
X-WR-TIMEZONE:Europe/Oslo


BEGIN:VEVENT
UID:36f2cc78eeaa452696f95af1fb2b5f8d
URL:https://umbraco.naeringsforeningen.no/moeter/arkiv/u37-sommertreff/
ORGANIZER;CN=Ola Normann:MAILTO:ola.normann@markedspartner.no
DTSTAMP:20220520T170000Z
DTSTART:20220520T170000Z
DTEND:20220520T210000Z
LAST-MODIFIED:20221031T121518Z
SUMMARY:U37 Dalane: Sommerfest
DESCRIPTION:U37 Dalane inviterer til sommerfest! HOLD AV DATOEN!
X-ALT-DESC:U37 Dalane inviterer til sommerfest! HOLD AV DATOEN!
LOCATION:Langholmen Panorama
END:VEVENT


END:VCALENDAR



