
BEGIN:VCALENDAR
VERSION:2.0
PRODID:-//MarkedsPartner AS//Umbraco CMS//NO
TIMEZONE-ID:Europe/Oslo
X-WR-TIMEZONE:Europe/Oslo


BEGIN:VEVENT
UID:1dea2091d8da4086be9443432454277b
URL:https://umbraco.naeringsforeningen.no/moeter/arkiv/u37-jaeren_270423/
ORGANIZER;CN=Ola Normann:MAILTO:ola.normann@markedspartner.no
DTSTAMP:20230427T160000Z
DTSTART:20230427T160000Z
DTEND:20230427T220000Z
LAST-MODIFIED:20230428T092907Z
SUMMARY:U37 Afterwork Jæren
DESCRIPTION:Ung og jobber i næringslivet på Jæren? Vi inviterer til en uformell møtearena for unge profesjonelle.
X-ALT-DESC:Ung og jobber i n&#230;ringslivet p&#229; J&#230;ren? Vi inviterer til en uformell m&#248;tearena for unge profesjonelle.
LOCATION:Bekkis bar, Torget 1, 4340 Bryne
END:VEVENT


END:VCALENDAR



