
BEGIN:VCALENDAR
VERSION:2.0
PRODID:-//MarkedsPartner AS//Umbraco CMS//NO
TIMEZONE-ID:Europe/Oslo
X-WR-TIMEZONE:Europe/Oslo


BEGIN:VEVENT
UID:c8c4e77e1e674bd58757298ecfd3e53c
URL:https://umbraco.naeringsforeningen.no/moeter/arkiv/u37-jaeren_110424/
ORGANIZER;CN=Ola Normann:MAILTO:ola.normann@markedspartner.no
DTSTAMP:20240411T170000Z
DTSTART:20240411T170000Z
DTEND:20240411T190000Z
LAST-MODIFIED:20240412T073627Z
SUMMARY:U37 Afterwork på Jæren
DESCRIPTION:Ung og keen på å utvide ditt nettverk? Vi inviterer til en uformell møtearena for unge profesjonelle Jærbuer.
X-ALT-DESC:Ung og keen p&#229; &#229; utvide ditt nettverk? Vi inviterer til en uformell m&#248;tearena for unge profesjonelle J&#230;rbuer.
LOCATION:SR-Bank, Bryne
END:VEVENT


END:VCALENDAR



