
BEGIN:VCALENDAR
VERSION:2.0
PRODID:-//MarkedsPartner AS//Umbraco CMS//NO
TIMEZONE-ID:Europe/Oslo
X-WR-TIMEZONE:Europe/Oslo


BEGIN:VEVENT
UID:36401b4590474d58bb10ab3182164967
URL:https://umbraco.naeringsforeningen.no/moeter/arkiv/u37-dalene_061223/
ORGANIZER;CN=Ola Normann:MAILTO:ola.normann@markedspartner.no
DTSTAMP:20231206T173000Z
DTSTART:20231206T173000Z
DTEND:20231206T210000Z
LAST-MODIFIED:20231208T140249Z
SUMMARY:Dalane: Kurs i styrearbeid – Regnskap, likviditet og egenkapital
DESCRIPTION:U37 Dalane inviterer til et spennende kurs i styrearbeid med fokus på bruken av regnskap, likviditet og egenkapital. Dette kurset vil gi deg verdifull informasjon og innsikt i hvordan du kan utnytte regnskapet som et praktisk verktøy i ditt styrearbeid, samt hva som er viktig å vurdere med tanke på selskapets likviditet og egenkapital.
X-ALT-DESC:U37 Dalane inviterer til et spennende kurs i styrearbeid med fokus p&#229; bruken av regnskap, likviditet og egenkapital. Dette kurset vil gi deg verdifull informasjon og innsikt i hvordan du kan utnytte regnskapet som et praktisk verkt&#248;y i ditt styrearbeid, samt hva som er viktig &#229; vurdere med tanke p&#229; selskapets likviditet og egenkapital.
LOCATION:Langholmveien 6. 2etg. Egersund
END:VEVENT


END:VCALENDAR



