
BEGIN:VCALENDAR
VERSION:2.0
PRODID:-//MarkedsPartner AS//Umbraco CMS//NO
TIMEZONE-ID:Europe/Oslo
X-WR-TIMEZONE:Europe/Oslo


BEGIN:VEVENT
UID:385166a719064153b220cdc43b304c29
URL:https://umbraco.naeringsforeningen.no/moeter/arkiv/u37-dalane_250823/
ORGANIZER;CN=Ola Normann:MAILTO:ola.normann@markedspartner.no
DTSTAMP:20230825T170000Z
DTSTART:20230825T170000Z
DTEND:20230825T210000Z
LAST-MODIFIED:20230828T064835Z
SUMMARY:Sommertreff U37 Dalane
DESCRIPTION:Klar for å feire sommeren med stil? U37 Dalane inviterer til årets mest etterlengtede sommerfest på Grand Hotell Egersund! La oss nyte smakfull mat, god musikk og fantastisk selskap sammen. Ikke gå glipp av denne muligheten til å mingle med likesinnede, bygge verdifulle relasjoner og ha det skikkelig gøy!
X-ALT-DESC:Klar for &#229; feire sommeren med stil? U37 Dalane inviterer til &#229;rets mest etterlengtede sommerfest p&#229; Grand Hotell Egersund! La oss nyte smakfull mat, god musikk og fantastisk selskap sammen. Ikke g&#229; glipp av denne muligheten til &#229; mingle med likesinnede, bygge verdifulle relasjoner og ha det skikkelig g&#248;y!
LOCATION:Grand Hotell, Johan Feyers gate 3, 4370 Egersund.
END:VEVENT


END:VCALENDAR



