
BEGIN:VCALENDAR
VERSION:2.0
PRODID:-//MarkedsPartner AS//Umbraco CMS//NO
TIMEZONE-ID:Europe/Oslo
X-WR-TIMEZONE:Europe/Oslo


BEGIN:VEVENT
UID:9db59b56bf054305bed649bbccd0a49b
URL:https://umbraco.naeringsforeningen.no/moeter/arkiv/u37-dalane_070324/
ORGANIZER;CN=Ola Normann:MAILTO:ola.normann@markedspartner.no
DTSTAMP:20240307T183000Z
DTSTART:20240307T183000Z
DTEND:20240307T203000Z
LAST-MODIFIED:20240308T143752Z
SUMMARY:U37 Dalane - Lær mer om privatøkonomi!
DESCRIPTION:Ønsker du å lære mer om privatøkonomi? Sammen med Flekkefjord sparebank inviterer U37 Dalane deg til til en innholdsfylt kveld hvor du kan lære mer om din privatøkonomi, smarte valg og planlegging.
X-ALT-DESC:&#216;nsker du &#229; l&#230;re mer om privat&#248;konomi? Sammen med Flekkefjord sparebank inviterer U37 Dalane deg til til en innholdsfylt kveld hvor du kan l&#230;re mer om din privat&#248;konomi, smarte valg og planlegging.
LOCATION:Langholmen 6. etg
END:VEVENT


END:VCALENDAR



