
BEGIN:VCALENDAR
VERSION:2.0
PRODID:-//MarkedsPartner AS//Umbraco CMS//NO
TIMEZONE-ID:Europe/Oslo
X-WR-TIMEZONE:Europe/Oslo


BEGIN:VEVENT
UID:80b51091504249a4992e9a318f39664a
URL:https://umbraco.naeringsforeningen.no/moeter/arkiv/u37-dalane-nettverkstreff_240223/
ORGANIZER;CN=Ola Normann:MAILTO:ola.normann@markedspartner.no
DTSTAMP:20230224T170000Z
DTSTART:20230224T170000Z
DTEND:20230224T220000Z
LAST-MODIFIED:20230228T151900Z
SUMMARY:U37 Nettverkstreff på Trakteriet
DESCRIPTION:Nytt år og nye muligheter! U37 Dalane inviterer til årets første nettverkstreff på Trakteriet pub i Egersund.
X-ALT-DESC:Nytt &#229;r og nye muligheter! U37 Dalane inviterer til &#229;rets f&#248;rste nettverkstreff p&#229; Trakteriet pub i Egersund.
LOCATION:Trakteriet, Strandgaten 76.
END:VEVENT


END:VCALENDAR



